BEGIN:VCALENDAR
VERSION:2.0
PRODID:-//btv-turnen//btv-turnen.de//DE
CALSCALE:GREGORIAN
BEGIN:VEVENT
DTSTART:20241006T000001Z
DTEND:20241006T235959Z
LOCATION:TSV Abensberg$1 Stadionstr. 17$1 93326 Abensberg
DTSTAMP:20260421T000001Z
SUMMARY:Gau-Mannschaftsmeisterschaft Gerätturnen weiblich
UID:20260421T000001Z-20241006T000001Z-20241006T235959Z
END:VEVENT
END:VCALENDAR