BEGIN:VCALENDAR
VERSION:2.0
PRODID:-//btv-turnen//btv-turnen.de//DE
CALSCALE:GREGORIAN
BEGIN:VEVENT
DTSTART:20240928T000001Z
DTEND:20240928T235959Z
LOCATION:Nürnberg - Ballettschule Pane-Klug
DTSTAMP:20260422T000001Z
SUMMARY:Lehrgang: Ballett und Modern Dance
UID:20260422T000001Z-20240928T000001Z-20240928T235959Z
END:VEVENT
END:VCALENDAR